BEGIN:VCALENDAR
VERSION:2.0
PRODID:-//Gloucestershire Carers Hub - ECPv6.15.20//NONSGML v1.0//EN
CALSCALE:GREGORIAN
METHOD:PUBLISH
X-WR-CALNAME:Gloucestershire Carers Hub
X-ORIGINAL-URL:https://gloucestershirecarershub.co.uk
X-WR-CALDESC:Events for Gloucestershire Carers Hub
REFRESH-INTERVAL;VALUE=DURATION:PT1H
X-Robots-Tag:noindex
X-PUBLISHED-TTL:PT1H
BEGIN:VTIMEZONE
TZID:Europe/London
BEGIN:DAYLIGHT
TZOFFSETFROM:+0000
TZOFFSETTO:+0100
TZNAME:BST
DTSTART:20250330T010000
END:DAYLIGHT
BEGIN:STANDARD
TZOFFSETFROM:+0100
TZOFFSETTO:+0000
TZNAME:GMT
DTSTART:20251026T010000
END:STANDARD
BEGIN:DAYLIGHT
TZOFFSETFROM:+0000
TZOFFSETTO:+0100
TZNAME:BST
DTSTART:20260329T010000
END:DAYLIGHT
BEGIN:STANDARD
TZOFFSETFROM:+0100
TZOFFSETTO:+0000
TZNAME:GMT
DTSTART:20261025T010000
END:STANDARD
BEGIN:DAYLIGHT
TZOFFSETFROM:+0000
TZOFFSETTO:+0100
TZNAME:BST
DTSTART:20270328T010000
END:DAYLIGHT
BEGIN:STANDARD
TZOFFSETFROM:+0100
TZOFFSETTO:+0000
TZNAME:GMT
DTSTART:20271031T010000
END:STANDARD
END:VTIMEZONE
BEGIN:VEVENT
DTSTART;TZID=Europe/London:20260311T100000
DTEND;TZID=Europe/London:20260311T110000
DTSTAMP:20260420T034600
CREATED:20260216T111701Z
LAST-MODIFIED:20260216T111701Z
UID:10003293-1773223200-1773226800@gloucestershirecarershub.co.uk
SUMMARY:Coleford – Bicky’s Carer Cafe\, Pyart Court\, Coleford
DESCRIPTION:Some of the Cafés are operated by external\norganisations\, and while they are not directly managed\nby the Carers Hub\, we’ve been kindly asked to help\npromote them.
URL:https://gloucestershirecarershub.co.uk/event/coleford-bickys-carer-cafe-pyart-court-coleford/
LOCATION:Bicky’s Carer Cafe\, Pyart Court\, Coleford
END:VEVENT
BEGIN:VEVENT
DTSTART;TZID=Europe/London:20260311T133000
DTEND;TZID=Europe/London:20260311T153000
DTSTAMP:20260420T034600
CREATED:20260216T084124Z
LAST-MODIFIED:20260216T084124Z
UID:10003281-1773235800-1773243000@gloucestershirecarershub.co.uk
SUMMARY:Be Empowered- Compassion fatigue
DESCRIPTION:Join us to learn about compassion fatigue and how it can\nimpact you in your caring role. Take away coping strategies and\nalso information on how to support your own wellbeing.
URL:https://gloucestershirecarershub.co.uk/event/be-empowered-compassion-fatigue/
LOCATION:Richmond Village\, Hatherley Lane\, Cheltenham GL51 6PN
END:VEVENT
BEGIN:VEVENT
DTSTART;TZID=Europe/London:20260311T151500
DTEND;TZID=Europe/London:20260311T161500
DTSTAMP:20260420T034600
CREATED:20260216T083633Z
LAST-MODIFIED:20260216T083716Z
UID:10003270-1773242100-1773245700@gloucestershirecarershub.co.uk
SUMMARY:Distance Reiki with Jo Fellows
DESCRIPTION:Join Jo Fellows for a distance reiki session\, follow Jo’s\ninstructions as you relax and unwind.
URL:https://gloucestershirecarershub.co.uk/event/distance-reiki-with-jo-fellows-3/
END:VEVENT
END:VCALENDAR