BEGIN:VCALENDAR
VERSION:2.0
PRODID:-//Gloucestershire Carers Hub - ECPv6.15.20//NONSGML v1.0//EN
CALSCALE:GREGORIAN
METHOD:PUBLISH
X-WR-CALNAME:Gloucestershire Carers Hub
X-ORIGINAL-URL:https://gloucestershirecarershub.co.uk
X-WR-CALDESC:Events for Gloucestershire Carers Hub
REFRESH-INTERVAL;VALUE=DURATION:PT1H
X-Robots-Tag:noindex
X-PUBLISHED-TTL:PT1H
BEGIN:VTIMEZONE
TZID:Europe/London
BEGIN:DAYLIGHT
TZOFFSETFROM:+0000
TZOFFSETTO:+0100
TZNAME:BST
DTSTART:20250330T010000
END:DAYLIGHT
BEGIN:STANDARD
TZOFFSETFROM:+0100
TZOFFSETTO:+0000
TZNAME:GMT
DTSTART:20251026T010000
END:STANDARD
BEGIN:DAYLIGHT
TZOFFSETFROM:+0000
TZOFFSETTO:+0100
TZNAME:BST
DTSTART:20260329T010000
END:DAYLIGHT
BEGIN:STANDARD
TZOFFSETFROM:+0100
TZOFFSETTO:+0000
TZNAME:GMT
DTSTART:20261025T010000
END:STANDARD
BEGIN:DAYLIGHT
TZOFFSETFROM:+0000
TZOFFSETTO:+0100
TZNAME:BST
DTSTART:20270328T010000
END:DAYLIGHT
BEGIN:STANDARD
TZOFFSETFROM:+0100
TZOFFSETTO:+0000
TZNAME:GMT
DTSTART:20271031T010000
END:STANDARD
END:VTIMEZONE
BEGIN:VEVENT
DTSTART;TZID=Europe/London:20260313T100000
DTEND;TZID=Europe/London:20260313T110000
DTSTAMP:20260420T001222
CREATED:20251216T110811Z
LAST-MODIFIED:20251216T110811Z
UID:10002734-1773396000-1773399600@gloucestershirecarershub.co.uk
SUMMARY:Mental Health Carers Connect Coffee Morning
DESCRIPTION:Every Friday (Not 2nd January) – 10.00am – 11.00am \n  \nJoin to connect and talk to other Carers\, seek advice and share your experiences. Opportunity to reach out and get support from others in a caring role.
URL:https://gloucestershirecarershub.co.uk/event/mental-health-carers-connect-coffee-morning/2026-03-13/
END:VEVENT
END:VCALENDAR