BEGIN:VCALENDAR
VERSION:2.0
PRODID:-//Gloucestershire Carers Hub - ECPv6.15.20//NONSGML v1.0//EN
CALSCALE:GREGORIAN
METHOD:PUBLISH
X-WR-CALNAME:Gloucestershire Carers Hub
X-ORIGINAL-URL:https://gloucestershirecarershub.co.uk
X-WR-CALDESC:Events for Gloucestershire Carers Hub
REFRESH-INTERVAL;VALUE=DURATION:PT1H
X-Robots-Tag:noindex
X-PUBLISHED-TTL:PT1H
BEGIN:VTIMEZONE
TZID:Europe/London
BEGIN:DAYLIGHT
TZOFFSETFROM:+0000
TZOFFSETTO:+0100
TZNAME:BST
DTSTART:20250330T010000
END:DAYLIGHT
BEGIN:STANDARD
TZOFFSETFROM:+0100
TZOFFSETTO:+0000
TZNAME:GMT
DTSTART:20251026T010000
END:STANDARD
BEGIN:DAYLIGHT
TZOFFSETFROM:+0000
TZOFFSETTO:+0100
TZNAME:BST
DTSTART:20260329T010000
END:DAYLIGHT
BEGIN:STANDARD
TZOFFSETFROM:+0100
TZOFFSETTO:+0000
TZNAME:GMT
DTSTART:20261025T010000
END:STANDARD
BEGIN:DAYLIGHT
TZOFFSETFROM:+0000
TZOFFSETTO:+0100
TZNAME:BST
DTSTART:20270328T010000
END:DAYLIGHT
BEGIN:STANDARD
TZOFFSETFROM:+0100
TZOFFSETTO:+0000
TZNAME:GMT
DTSTART:20271031T010000
END:STANDARD
END:VTIMEZONE
BEGIN:VEVENT
DTSTART;TZID=Europe/London:20260316T080000
DTEND;TZID=Europe/London:20260316T170000
DTSTAMP:20260419T183750
CREATED:20260316T135221Z
LAST-MODIFIED:20260316T135221Z
UID:10003407-1773648000-1773680400@gloucestershirecarershub.co.uk
SUMMARY:Winchcombe Day Centre Film Club
DESCRIPTION:Some of the Cafés are operated by external\norganisations\, and while they are not directly managed\nby the Carers Hub\, we’ve been kindly asked to help\npromote them.
URL:https://gloucestershirecarershub.co.uk/event/winchcombe-day-centre-film-club/
LOCATION:Winchcombe Day Centre Film Club\, Langley Rd\, Winchcombe\, Cheltenham GL54 5QN
END:VEVENT
BEGIN:VEVENT
DTSTART;TZID=Europe/London:20260316T103000
DTEND;TZID=Europe/London:20260316T113000
DTSTAMP:20260419T183750
CREATED:20260216T112058Z
LAST-MODIFIED:20260216T112058Z
UID:10003304-1773657000-1773660600@gloucestershirecarershub.co.uk
SUMMARY:Hucclecote Carer Cafe\, Hucclecote Methodist Chruch\, 9 Carisbrooke Rd\, Gloucester
DESCRIPTION:Some of the Cafés are operated by external\norganisations\, and while they are not directly managed\nby the Carers Hub\, we’ve been kindly asked to help\npromote them.
URL:https://gloucestershirecarershub.co.uk/event/hucclecote-carer-cafe-hucclecote-methodist-chruch-9-carisbrooke-rd-gloucester/
LOCATION:Hucclecote Carer Cafe\, Hucclecote Methodist Chruch\, 9 Carisbrooke Rd\, Gloucester
END:VEVENT
BEGIN:VEVENT
DTSTART;TZID=Europe/London:20260316T140000
DTEND;TZID=Europe/London:20260316T150000
DTSTAMP:20260419T183750
CREATED:20260216T111805Z
LAST-MODIFIED:20260216T111805Z
UID:10003296-1773669600-1773673200@gloucestershirecarershub.co.uk
SUMMARY:The Churn Carers Group\, Ashcroft Church\, Cirencester
DESCRIPTION:Some of the Cafés are operated by external\norganisations\, and while they are not directly managed\nby the Carers Hub\, we’ve been kindly asked to help\npromote them.
URL:https://gloucestershirecarershub.co.uk/event/the-churn-carers-group-ashcroft-church-cirencester/
LOCATION:The Churn Carers Group\, Ashcroft Church\, Cirencester
END:VEVENT
BEGIN:VEVENT
DTSTART;TZID=Europe/London:20260316T140000
DTEND;TZID=Europe/London:20260316T160000
DTSTAMP:20260419T183750
CREATED:20260216T111638Z
LAST-MODIFIED:20260216T111638Z
UID:10003290-1773669600-1773676800@gloucestershirecarershub.co.uk
SUMMARY:Great Oaks Hospice Carer Cafe\, Coleford
DESCRIPTION:Some of the Cafés are operated by external\norganisations\, and while they are not directly managed\nby the Carers Hub\, we’ve been kindly asked to help\npromote them.
URL:https://gloucestershirecarershub.co.uk/event/great-oaks-hospice-carer-cafe-coleford/2026-03-16/
END:VEVENT
END:VCALENDAR