BEGIN:VCALENDAR
VERSION:2.0
PRODID:-//Gloucestershire Carers Hub - ECPv6.15.20//NONSGML v1.0//EN
CALSCALE:GREGORIAN
METHOD:PUBLISH
X-WR-CALNAME:Gloucestershire Carers Hub
X-ORIGINAL-URL:https://gloucestershirecarershub.co.uk
X-WR-CALDESC:Events for Gloucestershire Carers Hub
REFRESH-INTERVAL;VALUE=DURATION:PT1H
X-Robots-Tag:noindex
X-PUBLISHED-TTL:PT1H
BEGIN:VTIMEZONE
TZID:Europe/London
BEGIN:DAYLIGHT
TZOFFSETFROM:+0000
TZOFFSETTO:+0100
TZNAME:BST
DTSTART:20250330T010000
END:DAYLIGHT
BEGIN:STANDARD
TZOFFSETFROM:+0100
TZOFFSETTO:+0000
TZNAME:GMT
DTSTART:20251026T010000
END:STANDARD
BEGIN:DAYLIGHT
TZOFFSETFROM:+0000
TZOFFSETTO:+0100
TZNAME:BST
DTSTART:20260329T010000
END:DAYLIGHT
BEGIN:STANDARD
TZOFFSETFROM:+0100
TZOFFSETTO:+0000
TZNAME:GMT
DTSTART:20261025T010000
END:STANDARD
BEGIN:DAYLIGHT
TZOFFSETFROM:+0000
TZOFFSETTO:+0100
TZNAME:BST
DTSTART:20270328T010000
END:DAYLIGHT
BEGIN:STANDARD
TZOFFSETFROM:+0100
TZOFFSETTO:+0000
TZNAME:GMT
DTSTART:20271031T010000
END:STANDARD
END:VTIMEZONE
BEGIN:VEVENT
DTSTART;TZID=Europe/London:20260402T100000
DTEND;TZID=Europe/London:20260402T120000
DTSTAMP:20260423T201123
CREATED:20260316T134749Z
LAST-MODIFIED:20260316T134749Z
UID:10003398-1775124000-1775131200@gloucestershirecarershub.co.uk
SUMMARY:GL13 Carer Cafe
DESCRIPTION:Some of the Cafés are operated by external\norganisations\, and while they are not directly managed\nby the Carers Hub\, we’ve been kindly asked to help\npromote them.
URL:https://gloucestershirecarershub.co.uk/event/gl13-carer-cafe/2026-04-02/
LOCATION:GL13 Community Hub and Library\, School Lane\, Berkeley\, Gloucestershire\, GL13 9DQ
END:VEVENT
BEGIN:VEVENT
DTSTART;TZID=Europe/London:20260402T143000
DTEND;TZID=Europe/London:20260402T153000
DTSTAMP:20260423T201123
CREATED:20260316T132028Z
LAST-MODIFIED:20260316T132028Z
UID:10003322-1775140200-1775143800@gloucestershirecarershub.co.uk
SUMMARY:Scam Awareness with DAISI
DESCRIPTION:Join DAISI for a session on scam awareness and\npassword keeping. An in depth session about different\ntypes of scams and how to stay safe online and when\nusing smart phones
URL:https://gloucestershirecarershub.co.uk/event/scam-awareness-with-daisi/
LOCATION:Zoom
END:VEVENT
END:VCALENDAR