BEGIN:VCALENDAR
VERSION:2.0
PRODID:-//Gloucestershire Carers Hub - ECPv6.15.20//NONSGML v1.0//EN
CALSCALE:GREGORIAN
METHOD:PUBLISH
X-WR-CALNAME:Gloucestershire Carers Hub
X-ORIGINAL-URL:https://gloucestershirecarershub.co.uk
X-WR-CALDESC:Events for Gloucestershire Carers Hub
REFRESH-INTERVAL;VALUE=DURATION:PT1H
X-Robots-Tag:noindex
X-PUBLISHED-TTL:PT1H
BEGIN:VTIMEZONE
TZID:Europe/London
BEGIN:DAYLIGHT
TZOFFSETFROM:+0000
TZOFFSETTO:+0100
TZNAME:BST
DTSTART:20250330T010000
END:DAYLIGHT
BEGIN:STANDARD
TZOFFSETFROM:+0100
TZOFFSETTO:+0000
TZNAME:GMT
DTSTART:20251026T010000
END:STANDARD
BEGIN:DAYLIGHT
TZOFFSETFROM:+0000
TZOFFSETTO:+0100
TZNAME:BST
DTSTART:20260329T010000
END:DAYLIGHT
BEGIN:STANDARD
TZOFFSETFROM:+0100
TZOFFSETTO:+0000
TZNAME:GMT
DTSTART:20261025T010000
END:STANDARD
BEGIN:DAYLIGHT
TZOFFSETFROM:+0000
TZOFFSETTO:+0100
TZNAME:BST
DTSTART:20270328T010000
END:DAYLIGHT
BEGIN:STANDARD
TZOFFSETFROM:+0100
TZOFFSETTO:+0000
TZNAME:GMT
DTSTART:20271031T010000
END:STANDARD
END:VTIMEZONE
BEGIN:VEVENT
DTSTART;TZID=Europe/London:20260419T200000
DTEND;TZID=Europe/London:20260419T210000
DTSTAMP:20260419T125912
CREATED:20260316T133828Z
LAST-MODIFIED:20260316T133828Z
UID:10003327-1776628800-1776632400@gloucestershirecarershub.co.uk
SUMMARY:Weekend Carers Social Catch Up
DESCRIPTION:Join our Sunday evening social to meet other Carers\nonline.
URL:https://gloucestershirecarershub.co.uk/event/weekend-carers-social-catch-up-5/
LOCATION:Zoom
END:VEVENT
END:VCALENDAR