BEGIN:VCALENDAR
VERSION:2.0
PRODID:-//Gloucestershire Carers Hub - ECPv6.15.20//NONSGML v1.0//EN
CALSCALE:GREGORIAN
METHOD:PUBLISH
X-WR-CALNAME:Gloucestershire Carers Hub
X-ORIGINAL-URL:https://gloucestershirecarershub.co.uk
X-WR-CALDESC:Events for Gloucestershire Carers Hub
REFRESH-INTERVAL;VALUE=DURATION:PT1H
X-Robots-Tag:noindex
X-PUBLISHED-TTL:PT1H
BEGIN:VTIMEZONE
TZID:Europe/London
BEGIN:DAYLIGHT
TZOFFSETFROM:+0000
TZOFFSETTO:+0100
TZNAME:BST
DTSTART:20250330T010000
END:DAYLIGHT
BEGIN:STANDARD
TZOFFSETFROM:+0100
TZOFFSETTO:+0000
TZNAME:GMT
DTSTART:20251026T010000
END:STANDARD
BEGIN:DAYLIGHT
TZOFFSETFROM:+0000
TZOFFSETTO:+0100
TZNAME:BST
DTSTART:20260329T010000
END:DAYLIGHT
BEGIN:STANDARD
TZOFFSETFROM:+0100
TZOFFSETTO:+0000
TZNAME:GMT
DTSTART:20261025T010000
END:STANDARD
BEGIN:DAYLIGHT
TZOFFSETFROM:+0000
TZOFFSETTO:+0100
TZNAME:BST
DTSTART:20270328T010000
END:DAYLIGHT
BEGIN:STANDARD
TZOFFSETFROM:+0100
TZOFFSETTO:+0000
TZNAME:GMT
DTSTART:20271031T010000
END:STANDARD
END:VTIMEZONE
BEGIN:VEVENT
DTSTART;TZID=Europe/London:20260420T103000
DTEND;TZID=Europe/London:20260420T113000
DTSTAMP:20260420T021229
CREATED:20260316T134912Z
LAST-MODIFIED:20260316T134912Z
UID:10003403-1776681000-1776684600@gloucestershirecarershub.co.uk
SUMMARY:Hucclecote Carer Cafe
DESCRIPTION:Some of the Cafés are operated by external\norganisations\, and while they are not directly managed\nby the Carers Hub\, we’ve been kindly asked to help\npromote them.
URL:https://gloucestershirecarershub.co.uk/event/hucclecote-carer-cafe/
LOCATION:Hucclecote Carer Cafe\, Hucclecote Methodist Chruch\, 9 Carisbrooke Rd\, Gloucester
END:VEVENT
BEGIN:VEVENT
DTSTART;TZID=Europe/London:20260420T140000
DTEND;TZID=Europe/London:20260420T153000
DTSTAMP:20260420T021229
CREATED:20260316T134543Z
LAST-MODIFIED:20260316T134543Z
UID:10003394-1776693600-1776699000@gloucestershirecarershub.co.uk
SUMMARY:The Churn Carers Group - Be Empowered
DESCRIPTION:Some of the Cafés are operated by external\norganisations\, and while they are not directly managed\nby the Carers Hub\, we’ve been kindly asked to help\npromote them.
URL:https://gloucestershirecarershub.co.uk/event/the-churn-carers-group-be-empowered/
LOCATION:The Churn Carers Group\, Ashcroft Church\, Cirencester
END:VEVENT
BEGIN:VEVENT
DTSTART;TZID=Europe/London:20260420T140000
DTEND;TZID=Europe/London:20260420T160000
DTSTAMP:20260420T021229
CREATED:20260316T134402Z
LAST-MODIFIED:20260316T134402Z
UID:10003337-1776693600-1776700800@gloucestershirecarershub.co.uk
SUMMARY:Great Oaks Hospice
DESCRIPTION:Some of the Cafés are operated by external\norganisations\, and while they are not directly managed\nby the Carers Hub\, we’ve been kindly asked to help\npromote them.
URL:https://gloucestershirecarershub.co.uk/event/great-oaks-hospice/2026-04-20/
END:VEVENT
BEGIN:VEVENT
DTSTART;TZID=Europe/London:20260420T140000
DTEND;TZID=Europe/London:20260420T160000
DTSTAMP:20260420T021229
CREATED:20260316T134157Z
LAST-MODIFIED:20260316T134157Z
UID:10003333-1776693600-1776700800@gloucestershirecarershub.co.uk
SUMMARY:Be Empowered - Compassion Fatigue
DESCRIPTION:Join us to learn about compassion fatigue and how it can\nimpact you in your caring role. Take away coping strategies and\nalso information on how to support your own wellbeing.
URL:https://gloucestershirecarershub.co.uk/event/be-empowered-compassion-fatigue-2/
LOCATION:The Churn Carers Group\, Ashcroft Church\, Cirencester
END:VEVENT
BEGIN:VEVENT
DTSTART;TZID=Europe/London:20260420T190000
DTEND;TZID=Europe/London:20260420T200000
DTSTAMP:20260420T021229
CREATED:20260316T134016Z
LAST-MODIFIED:20260316T134016Z
UID:10003330-1776711600-1776715200@gloucestershirecarershub.co.uk
SUMMARY:Yoga Nidra with Jo Fellows
DESCRIPTION:Join Jo Fellows for a relaxing Yoga Nidra session. Get a\nblanket and lie comfortably to have a guided meditation\nsession in the comfort of your own home.
URL:https://gloucestershirecarershub.co.uk/event/yoga-nidra-with-jo-fellows-6/
LOCATION:Zoom
END:VEVENT
END:VCALENDAR