BEGIN:VCALENDAR
VERSION:2.0
PRODID:-//Gloucestershire Carers Hub - ECPv6.15.20//NONSGML v1.0//EN
CALSCALE:GREGORIAN
METHOD:PUBLISH
X-WR-CALNAME:Gloucestershire Carers Hub
X-ORIGINAL-URL:https://gloucestershirecarershub.co.uk
X-WR-CALDESC:Events for Gloucestershire Carers Hub
REFRESH-INTERVAL;VALUE=DURATION:PT1H
X-Robots-Tag:noindex
X-PUBLISHED-TTL:PT1H
BEGIN:VTIMEZONE
TZID:Europe/London
BEGIN:DAYLIGHT
TZOFFSETFROM:+0000
TZOFFSETTO:+0100
TZNAME:BST
DTSTART:20250330T010000
END:DAYLIGHT
BEGIN:STANDARD
TZOFFSETFROM:+0100
TZOFFSETTO:+0000
TZNAME:GMT
DTSTART:20251026T010000
END:STANDARD
BEGIN:DAYLIGHT
TZOFFSETFROM:+0000
TZOFFSETTO:+0100
TZNAME:BST
DTSTART:20260329T010000
END:DAYLIGHT
BEGIN:STANDARD
TZOFFSETFROM:+0100
TZOFFSETTO:+0000
TZNAME:GMT
DTSTART:20261025T010000
END:STANDARD
BEGIN:DAYLIGHT
TZOFFSETFROM:+0000
TZOFFSETTO:+0100
TZNAME:BST
DTSTART:20270328T010000
END:DAYLIGHT
BEGIN:STANDARD
TZOFFSETFROM:+0100
TZOFFSETTO:+0000
TZNAME:GMT
DTSTART:20271031T010000
END:STANDARD
END:VTIMEZONE
BEGIN:VEVENT
DTSTART;TZID=Europe/London:20260422T093000
DTEND;TZID=Europe/London:20260422T103000
DTSTAMP:20260423T233440
CREATED:20260316T132053Z
LAST-MODIFIED:20260316T132053Z
UID:10003323-1776850200-1776853800@gloucestershirecarershub.co.uk
SUMMARY:The Care Advice Line - Power of Attorney Day
DESCRIPTION:Join us and the Care Advice Line to mark Power of\nAttorney Day. The session will cover the purpose of the\nPower of Attorney and how to apply
URL:https://gloucestershirecarershub.co.uk/event/the-care-advice-line-power-of-attorney-day/
LOCATION:Zoom
END:VEVENT
BEGIN:VEVENT
DTSTART;TZID=Europe/London:20260422T151500
DTEND;TZID=Europe/London:20260422T161500
DTSTAMP:20260423T233440
CREATED:20260316T134115Z
LAST-MODIFIED:20260316T134115Z
UID:10003332-1776870900-1776874500@gloucestershirecarershub.co.uk
SUMMARY:Qigong with Jo Fellows
DESCRIPTION:Join Jo Fellows for a session of Qigong\, an ancient mindbody\npractice combining slow\, flowing movements\,\ndeep breathing\, and focused intention to cultivate and\nbalance.
URL:https://gloucestershirecarershub.co.uk/event/qigong-with-jo-fellows-4/
LOCATION:Zoom
END:VEVENT
END:VCALENDAR