BEGIN:VCALENDAR
VERSION:2.0
PRODID:-//Gloucestershire Carers Hub - ECPv6.15.20//NONSGML v1.0//EN
CALSCALE:GREGORIAN
METHOD:PUBLISH
X-WR-CALNAME:Gloucestershire Carers Hub
X-ORIGINAL-URL:https://gloucestershirecarershub.co.uk
X-WR-CALDESC:Events for Gloucestershire Carers Hub
REFRESH-INTERVAL;VALUE=DURATION:PT1H
X-Robots-Tag:noindex
X-PUBLISHED-TTL:PT1H
BEGIN:VTIMEZONE
TZID:Europe/London
BEGIN:DAYLIGHT
TZOFFSETFROM:+0000
TZOFFSETTO:+0100
TZNAME:BST
DTSTART:20250330T010000
END:DAYLIGHT
BEGIN:STANDARD
TZOFFSETFROM:+0100
TZOFFSETTO:+0000
TZNAME:GMT
DTSTART:20251026T010000
END:STANDARD
BEGIN:DAYLIGHT
TZOFFSETFROM:+0000
TZOFFSETTO:+0100
TZNAME:BST
DTSTART:20260329T010000
END:DAYLIGHT
BEGIN:STANDARD
TZOFFSETFROM:+0100
TZOFFSETTO:+0000
TZNAME:GMT
DTSTART:20261025T010000
END:STANDARD
BEGIN:DAYLIGHT
TZOFFSETFROM:+0000
TZOFFSETTO:+0100
TZNAME:BST
DTSTART:20270328T010000
END:DAYLIGHT
BEGIN:STANDARD
TZOFFSETFROM:+0100
TZOFFSETTO:+0000
TZNAME:GMT
DTSTART:20271031T010000
END:STANDARD
END:VTIMEZONE
BEGIN:VEVENT
DTSTART;TZID=Europe/London:20260428T100000
DTEND;TZID=Europe/London:20260428T110000
DTSTAMP:20260423T195618
CREATED:20251216T120640Z
LAST-MODIFIED:20251216T120640Z
UID:10003006-1777370400-1777374000@gloucestershirecarershub.co.uk
SUMMARY:Carers Chat Time
DESCRIPTION:Come along and join our friendly and supportive group of Carers. Chat through challenges\, everyday life and gain advice from others.
URL:https://gloucestershirecarershub.co.uk/event/carers-chat-time-2/2026-04-28/
END:VEVENT
BEGIN:VEVENT
DTSTART;TZID=Europe/London:20260428T103000
DTEND;TZID=Europe/London:20260428T120000
DTSTAMP:20260423T195618
CREATED:20260316T134826Z
LAST-MODIFIED:20260316T134826Z
UID:10003401-1777372200-1777377600@gloucestershirecarershub.co.uk
SUMMARY:Robinswood Hill Carer Cafe
DESCRIPTION:Some of the Cafés are operated by external\norganisations\, and while they are not directly managed\nby the Carers Hub\, we’ve been kindly asked to help\npromote them.
URL:https://gloucestershirecarershub.co.uk/event/robinswood-hill-carer-cafe/2026-04-28/
LOCATION:Robinswood Hill\, Gloucester
END:VEVENT
BEGIN:VEVENT
DTSTART;TZID=Europe/London:20260428T130000
DTEND;TZID=Europe/London:20260428T150000
DTSTAMP:20260423T195618
CREATED:20260316T134450Z
LAST-MODIFIED:20260316T134450Z
UID:10003392-1777381200-1777388400@gloucestershirecarershub.co.uk
SUMMARY:Newent Carer Connect
DESCRIPTION:Some of the Cafés are operated by external\norganisations\, and while they are not directly managed\nby the Carers Hub\, we’ve been kindly asked to help\npromote them.
URL:https://gloucestershirecarershub.co.uk/event/newent-carer-connect/
LOCATION:Newent Connect \, Community Pavilion\, Newent
END:VEVENT
BEGIN:VEVENT
DTSTART;TZID=Europe/London:20260428T190000
DTEND;TZID=Europe/London:20260428T200000
DTSTAMP:20260423T195618
CREATED:20260316T133758Z
LAST-MODIFIED:20260316T133758Z
UID:10003326-1777402800-1777406400@gloucestershirecarershub.co.uk
SUMMARY:Dementia Carers Online Monthly Support Group
DESCRIPTION:Join other Dementia Carers for an online support\ngroup with Managing Memory and Gloucestershire\nCarers Hub.
URL:https://gloucestershirecarershub.co.uk/event/dementia-carers-online-monthly-support-group-5/
LOCATION:Zoom
END:VEVENT
END:VCALENDAR