BEGIN:VCALENDAR
VERSION:2.0
PRODID:-//Gloucestershire Carers Hub - ECPv6.15.20//NONSGML v1.0//EN
CALSCALE:GREGORIAN
METHOD:PUBLISH
X-ORIGINAL-URL:https://gloucestershirecarershub.co.uk
X-WR-CALDESC:Events for Gloucestershire Carers Hub
REFRESH-INTERVAL;VALUE=DURATION:PT1H
X-Robots-Tag:noindex
X-PUBLISHED-TTL:PT1H
BEGIN:VTIMEZONE
TZID:Europe/London
BEGIN:DAYLIGHT
TZOFFSETFROM:+0000
TZOFFSETTO:+0100
TZNAME:BST
DTSTART:20250330T010000
END:DAYLIGHT
BEGIN:STANDARD
TZOFFSETFROM:+0100
TZOFFSETTO:+0000
TZNAME:GMT
DTSTART:20251026T010000
END:STANDARD
BEGIN:DAYLIGHT
TZOFFSETFROM:+0000
TZOFFSETTO:+0100
TZNAME:BST
DTSTART:20260329T010000
END:DAYLIGHT
BEGIN:STANDARD
TZOFFSETFROM:+0100
TZOFFSETTO:+0000
TZNAME:GMT
DTSTART:20261025T010000
END:STANDARD
BEGIN:DAYLIGHT
TZOFFSETFROM:+0000
TZOFFSETTO:+0100
TZNAME:BST
DTSTART:20270328T010000
END:DAYLIGHT
BEGIN:STANDARD
TZOFFSETFROM:+0100
TZOFFSETTO:+0000
TZNAME:GMT
DTSTART:20271031T010000
END:STANDARD
END:VTIMEZONE
BEGIN:VEVENT
DTSTART;TZID=Europe/London:20261102T140000
DTEND;TZID=Europe/London:20261102T160000
DTSTAMP:20260424T113420
CREATED:20260316T134402Z
LAST-MODIFIED:20260316T134402Z
UID:10003365-1793628000-1793635200@gloucestershirecarershub.co.uk
SUMMARY:Great Oaks Hospice
DESCRIPTION:Some of the Cafés are operated by external\norganisations\, and while they are not directly managed\nby the Carers Hub\, we’ve been kindly asked to help\npromote them.
URL:https://gloucestershirecarershub.co.uk/event/great-oaks-hospice/2026-11-02/
END:VEVENT
BEGIN:VEVENT
DTSTART;TZID=Europe/London:20261103T100000
DTEND;TZID=Europe/London:20261103T110000
DTSTAMP:20260424T113420
CREATED:20251216T120640Z
LAST-MODIFIED:20251216T120640Z
UID:10003033-1793700000-1793703600@gloucestershirecarershub.co.uk
SUMMARY:Carers Chat Time
DESCRIPTION:Come along and join our friendly and supportive group of Carers. Chat through challenges\, everyday life and gain advice from others.
URL:https://gloucestershirecarershub.co.uk/event/carers-chat-time-2/2026-11-03/
END:VEVENT
BEGIN:VEVENT
DTSTART;TZID=Europe/London:20261106T100000
DTEND;TZID=Europe/London:20261106T110000
DTSTAMP:20260424T113420
CREATED:20251216T110811Z
LAST-MODIFIED:20251216T110811Z
UID:10002768-1793959200-1793962800@gloucestershirecarershub.co.uk
SUMMARY:Mental Health Carers Connect Coffee Morning
DESCRIPTION:Every Friday (Not 2nd January) – 10.00am – 11.00am \n  \nJoin to connect and talk to other Carers\, seek advice and share your experiences. Opportunity to reach out and get support from others in a caring role.
URL:https://gloucestershirecarershub.co.uk/event/mental-health-carers-connect-coffee-morning/2026-11-06/
END:VEVENT
BEGIN:VEVENT
DTSTART;TZID=Europe/London:20261109T140000
DTEND;TZID=Europe/London:20261109T160000
DTSTAMP:20260424T113420
CREATED:20260316T134402Z
LAST-MODIFIED:20260316T134402Z
UID:10003366-1794232800-1794240000@gloucestershirecarershub.co.uk
SUMMARY:Great Oaks Hospice
DESCRIPTION:Some of the Cafés are operated by external\norganisations\, and while they are not directly managed\nby the Carers Hub\, we’ve been kindly asked to help\npromote them.
URL:https://gloucestershirecarershub.co.uk/event/great-oaks-hospice/2026-11-09/
END:VEVENT
BEGIN:VEVENT
DTSTART;TZID=Europe/London:20261110T100000
DTEND;TZID=Europe/London:20261110T110000
DTSTAMP:20260424T113420
CREATED:20251216T120640Z
LAST-MODIFIED:20251216T120640Z
UID:10003034-1794304800-1794308400@gloucestershirecarershub.co.uk
SUMMARY:Carers Chat Time
DESCRIPTION:Come along and join our friendly and supportive group of Carers. Chat through challenges\, everyday life and gain advice from others.
URL:https://gloucestershirecarershub.co.uk/event/carers-chat-time-2/2026-11-10/
END:VEVENT
BEGIN:VEVENT
DTSTART;TZID=Europe/London:20261113T100000
DTEND;TZID=Europe/London:20261113T110000
DTSTAMP:20260424T113420
CREATED:20251216T110811Z
LAST-MODIFIED:20251216T110811Z
UID:10002769-1794564000-1794567600@gloucestershirecarershub.co.uk
SUMMARY:Mental Health Carers Connect Coffee Morning
DESCRIPTION:Every Friday (Not 2nd January) – 10.00am – 11.00am \n  \nJoin to connect and talk to other Carers\, seek advice and share your experiences. Opportunity to reach out and get support from others in a caring role.
URL:https://gloucestershirecarershub.co.uk/event/mental-health-carers-connect-coffee-morning/2026-11-13/
END:VEVENT
BEGIN:VEVENT
DTSTART;TZID=Europe/London:20261116T140000
DTEND;TZID=Europe/London:20261116T160000
DTSTAMP:20260424T113420
CREATED:20260316T134402Z
LAST-MODIFIED:20260316T134402Z
UID:10003367-1794837600-1794844800@gloucestershirecarershub.co.uk
SUMMARY:Great Oaks Hospice
DESCRIPTION:Some of the Cafés are operated by external\norganisations\, and while they are not directly managed\nby the Carers Hub\, we’ve been kindly asked to help\npromote them.
URL:https://gloucestershirecarershub.co.uk/event/great-oaks-hospice/2026-11-16/
END:VEVENT
BEGIN:VEVENT
DTSTART;TZID=Europe/London:20261117T100000
DTEND;TZID=Europe/London:20261117T110000
DTSTAMP:20260424T113420
CREATED:20251216T120640Z
LAST-MODIFIED:20251216T120640Z
UID:10003035-1794909600-1794913200@gloucestershirecarershub.co.uk
SUMMARY:Carers Chat Time
DESCRIPTION:Come along and join our friendly and supportive group of Carers. Chat through challenges\, everyday life and gain advice from others.
URL:https://gloucestershirecarershub.co.uk/event/carers-chat-time-2/2026-11-17/
END:VEVENT
BEGIN:VEVENT
DTSTART;TZID=Europe/London:20261120T100000
DTEND;TZID=Europe/London:20261120T110000
DTSTAMP:20260424T113420
CREATED:20251216T110811Z
LAST-MODIFIED:20251216T110811Z
UID:10002770-1795168800-1795172400@gloucestershirecarershub.co.uk
SUMMARY:Mental Health Carers Connect Coffee Morning
DESCRIPTION:Every Friday (Not 2nd January) – 10.00am – 11.00am \n  \nJoin to connect and talk to other Carers\, seek advice and share your experiences. Opportunity to reach out and get support from others in a caring role.
URL:https://gloucestershirecarershub.co.uk/event/mental-health-carers-connect-coffee-morning/2026-11-20/
END:VEVENT
BEGIN:VEVENT
DTSTART;TZID=Europe/London:20261123T140000
DTEND;TZID=Europe/London:20261123T160000
DTSTAMP:20260424T113420
CREATED:20260316T134402Z
LAST-MODIFIED:20260316T134402Z
UID:10003368-1795442400-1795449600@gloucestershirecarershub.co.uk
SUMMARY:Great Oaks Hospice
DESCRIPTION:Some of the Cafés are operated by external\norganisations\, and while they are not directly managed\nby the Carers Hub\, we’ve been kindly asked to help\npromote them.
URL:https://gloucestershirecarershub.co.uk/event/great-oaks-hospice/2026-11-23/
END:VEVENT
BEGIN:VEVENT
DTSTART;TZID=Europe/London:20261124T100000
DTEND;TZID=Europe/London:20261124T110000
DTSTAMP:20260424T113420
CREATED:20251216T120640Z
LAST-MODIFIED:20251216T120640Z
UID:10003036-1795514400-1795518000@gloucestershirecarershub.co.uk
SUMMARY:Carers Chat Time
DESCRIPTION:Come along and join our friendly and supportive group of Carers. Chat through challenges\, everyday life and gain advice from others.
URL:https://gloucestershirecarershub.co.uk/event/carers-chat-time-2/2026-11-24/
END:VEVENT
BEGIN:VEVENT
DTSTART;TZID=Europe/London:20261127T100000
DTEND;TZID=Europe/London:20261127T110000
DTSTAMP:20260424T113420
CREATED:20251216T110811Z
LAST-MODIFIED:20251216T110811Z
UID:10002771-1795773600-1795777200@gloucestershirecarershub.co.uk
SUMMARY:Mental Health Carers Connect Coffee Morning
DESCRIPTION:Every Friday (Not 2nd January) – 10.00am – 11.00am \n  \nJoin to connect and talk to other Carers\, seek advice and share your experiences. Opportunity to reach out and get support from others in a caring role.
URL:https://gloucestershirecarershub.co.uk/event/mental-health-carers-connect-coffee-morning/2026-11-27/
END:VEVENT
BEGIN:VEVENT
DTSTART;TZID=Europe/London:20261130T140000
DTEND;TZID=Europe/London:20261130T160000
DTSTAMP:20260424T113420
CREATED:20260316T134402Z
LAST-MODIFIED:20260316T134402Z
UID:10003369-1796047200-1796054400@gloucestershirecarershub.co.uk
SUMMARY:Great Oaks Hospice
DESCRIPTION:Some of the Cafés are operated by external\norganisations\, and while they are not directly managed\nby the Carers Hub\, we’ve been kindly asked to help\npromote them.
URL:https://gloucestershirecarershub.co.uk/event/great-oaks-hospice/2026-11-30/
END:VEVENT
END:VCALENDAR