BEGIN:VCALENDAR
VERSION:2.0
PRODID:-//Gloucestershire Carers Hub - ECPv6.15.20//NONSGML v1.0//EN
CALSCALE:GREGORIAN
METHOD:PUBLISH
X-ORIGINAL-URL:https://gloucestershirecarershub.co.uk
X-WR-CALDESC:Events for Gloucestershire Carers Hub
REFRESH-INTERVAL;VALUE=DURATION:PT1H
X-Robots-Tag:noindex
X-PUBLISHED-TTL:PT1H
BEGIN:VTIMEZONE
TZID:Europe/London
BEGIN:DAYLIGHT
TZOFFSETFROM:+0000
TZOFFSETTO:+0100
TZNAME:BST
DTSTART:20260329T010000
END:DAYLIGHT
BEGIN:STANDARD
TZOFFSETFROM:+0100
TZOFFSETTO:+0000
TZNAME:GMT
DTSTART:20261025T010000
END:STANDARD
BEGIN:DAYLIGHT
TZOFFSETFROM:+0000
TZOFFSETTO:+0100
TZNAME:BST
DTSTART:20270328T010000
END:DAYLIGHT
BEGIN:STANDARD
TZOFFSETFROM:+0100
TZOFFSETTO:+0000
TZNAME:GMT
DTSTART:20271031T010000
END:STANDARD
BEGIN:DAYLIGHT
TZOFFSETFROM:+0000
TZOFFSETTO:+0100
TZNAME:BST
DTSTART:20280326T010000
END:DAYLIGHT
BEGIN:STANDARD
TZOFFSETFROM:+0100
TZOFFSETTO:+0000
TZNAME:GMT
DTSTART:20281029T010000
END:STANDARD
END:VTIMEZONE
BEGIN:VEVENT
DTSTART;TZID=Europe/London:20270402T100000
DTEND;TZID=Europe/London:20270402T110000
DTSTAMP:20260424T215650
CREATED:20251216T110811Z
LAST-MODIFIED:20251216T110811Z
UID:10002789-1806660000-1806663600@gloucestershirecarershub.co.uk
SUMMARY:Mental Health Carers Connect Coffee Morning
DESCRIPTION:Every Friday (Not 2nd January) – 10.00am – 11.00am \n  \nJoin to connect and talk to other Carers\, seek advice and share your experiences. Opportunity to reach out and get support from others in a caring role.
URL:https://gloucestershirecarershub.co.uk/event/mental-health-carers-connect-coffee-morning/2027-04-02/
END:VEVENT
BEGIN:VEVENT
DTSTART;TZID=Europe/London:20270405T140000
DTEND;TZID=Europe/London:20270405T160000
DTSTAMP:20260424T215650
CREATED:20260316T134402Z
LAST-MODIFIED:20260316T134402Z
UID:10003387-1806933600-1806940800@gloucestershirecarershub.co.uk
SUMMARY:Great Oaks Hospice
DESCRIPTION:Some of the Cafés are operated by external\norganisations\, and while they are not directly managed\nby the Carers Hub\, we’ve been kindly asked to help\npromote them.
URL:https://gloucestershirecarershub.co.uk/event/great-oaks-hospice/2027-04-05/
END:VEVENT
BEGIN:VEVENT
DTSTART;TZID=Europe/London:20270406T100000
DTEND;TZID=Europe/London:20270406T110000
DTSTAMP:20260424T215650
CREATED:20251216T120640Z
LAST-MODIFIED:20251216T120640Z
UID:10003055-1807005600-1807009200@gloucestershirecarershub.co.uk
SUMMARY:Carers Chat Time
DESCRIPTION:Come along and join our friendly and supportive group of Carers. Chat through challenges\, everyday life and gain advice from others.
URL:https://gloucestershirecarershub.co.uk/event/carers-chat-time-2/2027-04-06/
END:VEVENT
BEGIN:VEVENT
DTSTART;TZID=Europe/London:20270409T100000
DTEND;TZID=Europe/London:20270409T110000
DTSTAMP:20260424T215650
CREATED:20251216T110811Z
LAST-MODIFIED:20251216T110811Z
UID:10002790-1807264800-1807268400@gloucestershirecarershub.co.uk
SUMMARY:Mental Health Carers Connect Coffee Morning
DESCRIPTION:Every Friday (Not 2nd January) – 10.00am – 11.00am \n  \nJoin to connect and talk to other Carers\, seek advice and share your experiences. Opportunity to reach out and get support from others in a caring role.
URL:https://gloucestershirecarershub.co.uk/event/mental-health-carers-connect-coffee-morning/2027-04-09/
END:VEVENT
BEGIN:VEVENT
DTSTART;TZID=Europe/London:20270412T140000
DTEND;TZID=Europe/London:20270412T160000
DTSTAMP:20260424T215650
CREATED:20260316T134402Z
LAST-MODIFIED:20260316T134402Z
UID:10003388-1807538400-1807545600@gloucestershirecarershub.co.uk
SUMMARY:Great Oaks Hospice
DESCRIPTION:Some of the Cafés are operated by external\norganisations\, and while they are not directly managed\nby the Carers Hub\, we’ve been kindly asked to help\npromote them.
URL:https://gloucestershirecarershub.co.uk/event/great-oaks-hospice/2027-04-12/
END:VEVENT
BEGIN:VEVENT
DTSTART;TZID=Europe/London:20270413T100000
DTEND;TZID=Europe/London:20270413T110000
DTSTAMP:20260424T215650
CREATED:20251216T120640Z
LAST-MODIFIED:20251216T120640Z
UID:10003056-1807610400-1807614000@gloucestershirecarershub.co.uk
SUMMARY:Carers Chat Time
DESCRIPTION:Come along and join our friendly and supportive group of Carers. Chat through challenges\, everyday life and gain advice from others.
URL:https://gloucestershirecarershub.co.uk/event/carers-chat-time-2/2027-04-13/
END:VEVENT
BEGIN:VEVENT
DTSTART;TZID=Europe/London:20270416T100000
DTEND;TZID=Europe/London:20270416T110000
DTSTAMP:20260424T215650
CREATED:20251216T110811Z
LAST-MODIFIED:20251216T110811Z
UID:10002791-1807869600-1807873200@gloucestershirecarershub.co.uk
SUMMARY:Mental Health Carers Connect Coffee Morning
DESCRIPTION:Every Friday (Not 2nd January) – 10.00am – 11.00am \n  \nJoin to connect and talk to other Carers\, seek advice and share your experiences. Opportunity to reach out and get support from others in a caring role.
URL:https://gloucestershirecarershub.co.uk/event/mental-health-carers-connect-coffee-morning/2027-04-16/
END:VEVENT
BEGIN:VEVENT
DTSTART;TZID=Europe/London:20270419T140000
DTEND;TZID=Europe/London:20270419T160000
DTSTAMP:20260424T215650
CREATED:20260316T134402Z
LAST-MODIFIED:20260316T134402Z
UID:10003389-1808143200-1808150400@gloucestershirecarershub.co.uk
SUMMARY:Great Oaks Hospice
DESCRIPTION:Some of the Cafés are operated by external\norganisations\, and while they are not directly managed\nby the Carers Hub\, we’ve been kindly asked to help\npromote them.
URL:https://gloucestershirecarershub.co.uk/event/great-oaks-hospice/2027-04-19/
END:VEVENT
BEGIN:VEVENT
DTSTART;TZID=Europe/London:20270420T100000
DTEND;TZID=Europe/London:20270420T110000
DTSTAMP:20260424T215650
CREATED:20251216T120640Z
LAST-MODIFIED:20251216T120640Z
UID:10003057-1808215200-1808218800@gloucestershirecarershub.co.uk
SUMMARY:Carers Chat Time
DESCRIPTION:Come along and join our friendly and supportive group of Carers. Chat through challenges\, everyday life and gain advice from others.
URL:https://gloucestershirecarershub.co.uk/event/carers-chat-time-2/2027-04-20/
END:VEVENT
BEGIN:VEVENT
DTSTART;TZID=Europe/London:20270423T100000
DTEND;TZID=Europe/London:20270423T110000
DTSTAMP:20260424T215650
CREATED:20251216T110811Z
LAST-MODIFIED:20251216T110811Z
UID:10002792-1808474400-1808478000@gloucestershirecarershub.co.uk
SUMMARY:Mental Health Carers Connect Coffee Morning
DESCRIPTION:Every Friday (Not 2nd January) – 10.00am – 11.00am \n  \nJoin to connect and talk to other Carers\, seek advice and share your experiences. Opportunity to reach out and get support from others in a caring role.
URL:https://gloucestershirecarershub.co.uk/event/mental-health-carers-connect-coffee-morning/2027-04-23/
END:VEVENT
BEGIN:VEVENT
DTSTART;TZID=Europe/London:20270426T140000
DTEND;TZID=Europe/London:20270426T160000
DTSTAMP:20260424T215650
CREATED:20260316T134402Z
LAST-MODIFIED:20260316T134402Z
UID:10003390-1808748000-1808755200@gloucestershirecarershub.co.uk
SUMMARY:Great Oaks Hospice
DESCRIPTION:Some of the Cafés are operated by external\norganisations\, and while they are not directly managed\nby the Carers Hub\, we’ve been kindly asked to help\npromote them.
URL:https://gloucestershirecarershub.co.uk/event/great-oaks-hospice/2027-04-26/
END:VEVENT
BEGIN:VEVENT
DTSTART;TZID=Europe/London:20270427T100000
DTEND;TZID=Europe/London:20270427T110000
DTSTAMP:20260424T215650
CREATED:20251216T120640Z
LAST-MODIFIED:20251216T120640Z
UID:10003058-1808820000-1808823600@gloucestershirecarershub.co.uk
SUMMARY:Carers Chat Time
DESCRIPTION:Come along and join our friendly and supportive group of Carers. Chat through challenges\, everyday life and gain advice from others.
URL:https://gloucestershirecarershub.co.uk/event/carers-chat-time-2/2027-04-27/
END:VEVENT
BEGIN:VEVENT
DTSTART;TZID=Europe/London:20270430T100000
DTEND;TZID=Europe/London:20270430T110000
DTSTAMP:20260424T215650
CREATED:20251216T110811Z
LAST-MODIFIED:20251216T110811Z
UID:10002793-1809079200-1809082800@gloucestershirecarershub.co.uk
SUMMARY:Mental Health Carers Connect Coffee Morning
DESCRIPTION:Every Friday (Not 2nd January) – 10.00am – 11.00am \n  \nJoin to connect and talk to other Carers\, seek advice and share your experiences. Opportunity to reach out and get support from others in a caring role.
URL:https://gloucestershirecarershub.co.uk/event/mental-health-carers-connect-coffee-morning/2027-04-30/
END:VEVENT
END:VCALENDAR