BEGIN:VCALENDAR
VERSION:2.0
PRODID:-//Gloucestershire Carers Hub - ECPv6.15.20//NONSGML v1.0//EN
CALSCALE:GREGORIAN
METHOD:PUBLISH
X-WR-CALNAME:Gloucestershire Carers Hub
X-ORIGINAL-URL:https://gloucestershirecarershub.co.uk
X-WR-CALDESC:Events for Gloucestershire Carers Hub
REFRESH-INTERVAL;VALUE=DURATION:PT1H
X-Robots-Tag:noindex
X-PUBLISHED-TTL:PT1H
BEGIN:VTIMEZONE
TZID:Europe/London
BEGIN:DAYLIGHT
TZOFFSETFROM:+0000
TZOFFSETTO:+0100
TZNAME:BST
DTSTART:20260329T010000
END:DAYLIGHT
BEGIN:STANDARD
TZOFFSETFROM:+0100
TZOFFSETTO:+0000
TZNAME:GMT
DTSTART:20261025T010000
END:STANDARD
BEGIN:DAYLIGHT
TZOFFSETFROM:+0000
TZOFFSETTO:+0100
TZNAME:BST
DTSTART:20270328T010000
END:DAYLIGHT
BEGIN:STANDARD
TZOFFSETFROM:+0100
TZOFFSETTO:+0000
TZNAME:GMT
DTSTART:20271031T010000
END:STANDARD
BEGIN:DAYLIGHT
TZOFFSETFROM:+0000
TZOFFSETTO:+0100
TZNAME:BST
DTSTART:20280326T010000
END:DAYLIGHT
BEGIN:STANDARD
TZOFFSETFROM:+0100
TZOFFSETTO:+0000
TZNAME:GMT
DTSTART:20281029T010000
END:STANDARD
END:VTIMEZONE
BEGIN:VEVENT
DTSTART;TZID=Europe/London:20270504T100000
DTEND;TZID=Europe/London:20270504T110000
DTSTAMP:20260424T233823
CREATED:20251216T120640Z
LAST-MODIFIED:20251216T120640Z
UID:10003059-1809424800-1809428400@gloucestershirecarershub.co.uk
SUMMARY:Carers Chat Time
DESCRIPTION:Come along and join our friendly and supportive group of Carers. Chat through challenges\, everyday life and gain advice from others.
URL:https://gloucestershirecarershub.co.uk/event/carers-chat-time-2/2027-05-04/
END:VEVENT
BEGIN:VEVENT
DTSTART;TZID=Europe/London:20270507T100000
DTEND;TZID=Europe/London:20270507T110000
DTSTAMP:20260424T233823
CREATED:20251216T110811Z
LAST-MODIFIED:20251216T110811Z
UID:10002794-1809684000-1809687600@gloucestershirecarershub.co.uk
SUMMARY:Mental Health Carers Connect Coffee Morning
DESCRIPTION:Every Friday (Not 2nd January) – 10.00am – 11.00am \n  \nJoin to connect and talk to other Carers\, seek advice and share your experiences. Opportunity to reach out and get support from others in a caring role.
URL:https://gloucestershirecarershub.co.uk/event/mental-health-carers-connect-coffee-morning/2027-05-07/
END:VEVENT
BEGIN:VEVENT
DTSTART;TZID=Europe/London:20270511T100000
DTEND;TZID=Europe/London:20270511T110000
DTSTAMP:20260424T233823
CREATED:20251216T120640Z
LAST-MODIFIED:20251216T120640Z
UID:10003060-1810029600-1810033200@gloucestershirecarershub.co.uk
SUMMARY:Carers Chat Time
DESCRIPTION:Come along and join our friendly and supportive group of Carers. Chat through challenges\, everyday life and gain advice from others.
URL:https://gloucestershirecarershub.co.uk/event/carers-chat-time-2/2027-05-11/
END:VEVENT
BEGIN:VEVENT
DTSTART;TZID=Europe/London:20270514T100000
DTEND;TZID=Europe/London:20270514T110000
DTSTAMP:20260424T233823
CREATED:20251216T110811Z
LAST-MODIFIED:20251216T110811Z
UID:10002795-1810288800-1810292400@gloucestershirecarershub.co.uk
SUMMARY:Mental Health Carers Connect Coffee Morning
DESCRIPTION:Every Friday (Not 2nd January) – 10.00am – 11.00am \n  \nJoin to connect and talk to other Carers\, seek advice and share your experiences. Opportunity to reach out and get support from others in a caring role.
URL:https://gloucestershirecarershub.co.uk/event/mental-health-carers-connect-coffee-morning/2027-05-14/
END:VEVENT
BEGIN:VEVENT
DTSTART;TZID=Europe/London:20270518T100000
DTEND;TZID=Europe/London:20270518T110000
DTSTAMP:20260424T233823
CREATED:20251216T120640Z
LAST-MODIFIED:20251216T120640Z
UID:10003061-1810634400-1810638000@gloucestershirecarershub.co.uk
SUMMARY:Carers Chat Time
DESCRIPTION:Come along and join our friendly and supportive group of Carers. Chat through challenges\, everyday life and gain advice from others.
URL:https://gloucestershirecarershub.co.uk/event/carers-chat-time-2/2027-05-18/
END:VEVENT
BEGIN:VEVENT
DTSTART;TZID=Europe/London:20270521T100000
DTEND;TZID=Europe/London:20270521T110000
DTSTAMP:20260424T233823
CREATED:20251216T110811Z
LAST-MODIFIED:20251216T110811Z
UID:10002796-1810893600-1810897200@gloucestershirecarershub.co.uk
SUMMARY:Mental Health Carers Connect Coffee Morning
DESCRIPTION:Every Friday (Not 2nd January) – 10.00am – 11.00am \n  \nJoin to connect and talk to other Carers\, seek advice and share your experiences. Opportunity to reach out and get support from others in a caring role.
URL:https://gloucestershirecarershub.co.uk/event/mental-health-carers-connect-coffee-morning/2027-05-21/
END:VEVENT
BEGIN:VEVENT
DTSTART;TZID=Europe/London:20270525T100000
DTEND;TZID=Europe/London:20270525T110000
DTSTAMP:20260424T233823
CREATED:20251216T120640Z
LAST-MODIFIED:20251216T120640Z
UID:10003062-1811239200-1811242800@gloucestershirecarershub.co.uk
SUMMARY:Carers Chat Time
DESCRIPTION:Come along and join our friendly and supportive group of Carers. Chat through challenges\, everyday life and gain advice from others.
URL:https://gloucestershirecarershub.co.uk/event/carers-chat-time-2/2027-05-25/
END:VEVENT
BEGIN:VEVENT
DTSTART;TZID=Europe/London:20270528T100000
DTEND;TZID=Europe/London:20270528T110000
DTSTAMP:20260424T233823
CREATED:20251216T110811Z
LAST-MODIFIED:20251216T110811Z
UID:10002797-1811498400-1811502000@gloucestershirecarershub.co.uk
SUMMARY:Mental Health Carers Connect Coffee Morning
DESCRIPTION:Every Friday (Not 2nd January) – 10.00am – 11.00am \n  \nJoin to connect and talk to other Carers\, seek advice and share your experiences. Opportunity to reach out and get support from others in a caring role.
URL:https://gloucestershirecarershub.co.uk/event/mental-health-carers-connect-coffee-morning/2027-05-28/
END:VEVENT
END:VCALENDAR