BEGIN:VCALENDAR
VERSION:2.0
PRODID:-//Gloucestershire Carers Hub - ECPv6.15.20//NONSGML v1.0//EN
CALSCALE:GREGORIAN
METHOD:PUBLISH
X-ORIGINAL-URL:https://gloucestershirecarershub.co.uk
X-WR-CALDESC:Events for Gloucestershire Carers Hub
REFRESH-INTERVAL;VALUE=DURATION:PT1H
X-Robots-Tag:noindex
X-PUBLISHED-TTL:PT1H
BEGIN:VTIMEZONE
TZID:Europe/London
BEGIN:DAYLIGHT
TZOFFSETFROM:+0000
TZOFFSETTO:+0100
TZNAME:BST
DTSTART:20260329T010000
END:DAYLIGHT
BEGIN:STANDARD
TZOFFSETFROM:+0100
TZOFFSETTO:+0000
TZNAME:GMT
DTSTART:20261025T010000
END:STANDARD
BEGIN:DAYLIGHT
TZOFFSETFROM:+0000
TZOFFSETTO:+0100
TZNAME:BST
DTSTART:20270328T010000
END:DAYLIGHT
BEGIN:STANDARD
TZOFFSETFROM:+0100
TZOFFSETTO:+0000
TZNAME:GMT
DTSTART:20271031T010000
END:STANDARD
BEGIN:DAYLIGHT
TZOFFSETFROM:+0000
TZOFFSETTO:+0100
TZNAME:BST
DTSTART:20280326T010000
END:DAYLIGHT
BEGIN:STANDARD
TZOFFSETFROM:+0100
TZOFFSETTO:+0000
TZNAME:GMT
DTSTART:20281029T010000
END:STANDARD
END:VTIMEZONE
BEGIN:VEVENT
DTSTART;TZID=Europe/London:20270702T100000
DTEND;TZID=Europe/London:20270702T110000
DTSTAMP:20260425T040359
CREATED:20251216T110811Z
LAST-MODIFIED:20251216T110811Z
UID:10002802-1814522400-1814526000@gloucestershirecarershub.co.uk
SUMMARY:Mental Health Carers Connect Coffee Morning
DESCRIPTION:Every Friday (Not 2nd January) – 10.00am – 11.00am \n  \nJoin to connect and talk to other Carers\, seek advice and share your experiences. Opportunity to reach out and get support from others in a caring role.
URL:https://gloucestershirecarershub.co.uk/event/mental-health-carers-connect-coffee-morning/2027-07-02/
END:VEVENT
BEGIN:VEVENT
DTSTART;TZID=Europe/London:20270706T100000
DTEND;TZID=Europe/London:20270706T110000
DTSTAMP:20260425T040359
CREATED:20251216T120640Z
LAST-MODIFIED:20251216T120640Z
UID:10003068-1814868000-1814871600@gloucestershirecarershub.co.uk
SUMMARY:Carers Chat Time
DESCRIPTION:Come along and join our friendly and supportive group of Carers. Chat through challenges\, everyday life and gain advice from others.
URL:https://gloucestershirecarershub.co.uk/event/carers-chat-time-2/2027-07-06/
END:VEVENT
BEGIN:VEVENT
DTSTART;TZID=Europe/London:20270709T100000
DTEND;TZID=Europe/London:20270709T110000
DTSTAMP:20260425T040359
CREATED:20251216T110811Z
LAST-MODIFIED:20251216T110811Z
UID:10002803-1815127200-1815130800@gloucestershirecarershub.co.uk
SUMMARY:Mental Health Carers Connect Coffee Morning
DESCRIPTION:Every Friday (Not 2nd January) – 10.00am – 11.00am \n  \nJoin to connect and talk to other Carers\, seek advice and share your experiences. Opportunity to reach out and get support from others in a caring role.
URL:https://gloucestershirecarershub.co.uk/event/mental-health-carers-connect-coffee-morning/2027-07-09/
END:VEVENT
BEGIN:VEVENT
DTSTART;TZID=Europe/London:20270713T100000
DTEND;TZID=Europe/London:20270713T110000
DTSTAMP:20260425T040359
CREATED:20251216T120640Z
LAST-MODIFIED:20251216T120640Z
UID:10003069-1815472800-1815476400@gloucestershirecarershub.co.uk
SUMMARY:Carers Chat Time
DESCRIPTION:Come along and join our friendly and supportive group of Carers. Chat through challenges\, everyday life and gain advice from others.
URL:https://gloucestershirecarershub.co.uk/event/carers-chat-time-2/2027-07-13/
END:VEVENT
BEGIN:VEVENT
DTSTART;TZID=Europe/London:20270716T100000
DTEND;TZID=Europe/London:20270716T110000
DTSTAMP:20260425T040359
CREATED:20251216T110811Z
LAST-MODIFIED:20251216T110811Z
UID:10002804-1815732000-1815735600@gloucestershirecarershub.co.uk
SUMMARY:Mental Health Carers Connect Coffee Morning
DESCRIPTION:Every Friday (Not 2nd January) – 10.00am – 11.00am \n  \nJoin to connect and talk to other Carers\, seek advice and share your experiences. Opportunity to reach out and get support from others in a caring role.
URL:https://gloucestershirecarershub.co.uk/event/mental-health-carers-connect-coffee-morning/2027-07-16/
END:VEVENT
BEGIN:VEVENT
DTSTART;TZID=Europe/London:20270720T100000
DTEND;TZID=Europe/London:20270720T110000
DTSTAMP:20260425T040359
CREATED:20251216T120640Z
LAST-MODIFIED:20251216T120640Z
UID:10003070-1816077600-1816081200@gloucestershirecarershub.co.uk
SUMMARY:Carers Chat Time
DESCRIPTION:Come along and join our friendly and supportive group of Carers. Chat through challenges\, everyday life and gain advice from others.
URL:https://gloucestershirecarershub.co.uk/event/carers-chat-time-2/2027-07-20/
END:VEVENT
BEGIN:VEVENT
DTSTART;TZID=Europe/London:20270723T100000
DTEND;TZID=Europe/London:20270723T110000
DTSTAMP:20260425T040359
CREATED:20251216T110811Z
LAST-MODIFIED:20251216T110811Z
UID:10002805-1816336800-1816340400@gloucestershirecarershub.co.uk
SUMMARY:Mental Health Carers Connect Coffee Morning
DESCRIPTION:Every Friday (Not 2nd January) – 10.00am – 11.00am \n  \nJoin to connect and talk to other Carers\, seek advice and share your experiences. Opportunity to reach out and get support from others in a caring role.
URL:https://gloucestershirecarershub.co.uk/event/mental-health-carers-connect-coffee-morning/2027-07-23/
END:VEVENT
BEGIN:VEVENT
DTSTART;TZID=Europe/London:20270727T100000
DTEND;TZID=Europe/London:20270727T110000
DTSTAMP:20260425T040359
CREATED:20251216T120640Z
LAST-MODIFIED:20251216T120640Z
UID:10003071-1816682400-1816686000@gloucestershirecarershub.co.uk
SUMMARY:Carers Chat Time
DESCRIPTION:Come along and join our friendly and supportive group of Carers. Chat through challenges\, everyday life and gain advice from others.
URL:https://gloucestershirecarershub.co.uk/event/carers-chat-time-2/2027-07-27/
END:VEVENT
BEGIN:VEVENT
DTSTART;TZID=Europe/London:20270730T100000
DTEND;TZID=Europe/London:20270730T110000
DTSTAMP:20260425T040359
CREATED:20251216T110811Z
LAST-MODIFIED:20251216T110811Z
UID:10002806-1816941600-1816945200@gloucestershirecarershub.co.uk
SUMMARY:Mental Health Carers Connect Coffee Morning
DESCRIPTION:Every Friday (Not 2nd January) – 10.00am – 11.00am \n  \nJoin to connect and talk to other Carers\, seek advice and share your experiences. Opportunity to reach out and get support from others in a caring role.
URL:https://gloucestershirecarershub.co.uk/event/mental-health-carers-connect-coffee-morning/2027-07-30/
END:VEVENT
END:VCALENDAR